{"text_format":"2","workbook":"xlsx","n_sheets":5,"sheets":["Gebietsabgrenzungs Übersicht","Zentrales Hauptsiedlungsgebiet","Hauptsiedlungsgebiet","peripheres Hauptsiedlungsgebiet","übriges Siedlungsgebiet"],"not_rendered":{"charts":2,"images":1,"macros":0,"external_links":0,"defined_names":4,"comments":0,"pivot_tables":0},"unopened":[{"sheet":"Gebietsabgrenzungs Übersicht","index":0,"reason":"not_a_worksheet"}],"bounds":{"document_bytes":16777216,"sheet_cells":100000,"run_cost":"one","rows_first":2000,"rows_last":500,"rows_between":2000,"halvings":0,"cell_chars":16384,"cell_head_chars":4096},"cells_cut":0,"cells_raw":0,"read":"whole","date_system":"1900"}

{"sheet":"Zentrales Hauptsiedlungsgebiet","index":1,"n_rows":87,"n_cols":9,"rows_kept":87,"cut":false,"hidden":false,"merged":[[71,2,73,5],[7,8,10,8],[12,8,15,8],[66,0,66,6],[86,0,86,6],[41,0,42,0],[41,2,42,2],[41,1,42,1],[41,6,42,6],[59,0,59,5],[55,1,55,6],[53,1,53,6],[60,0,60,5],[62,2,62,5],[63,2,63,5],[62,0,63,1],[6,1,6,6],[11,1,11,6],[22,1,22,6],[16,1,16,6],[17,1,17,6],[0,0,0,6],[2,0,2,1],[1,0,1,1],[1,4,1,6],[2,4,2,6],[3,3,4,3],[3,4,3,5],[3,6,4,6],[3,2,4,2],[5,1,5,6],[61,0,61,5],[68,2,70,5],[18,8,21,8],[23,8,26,8],[49,1,49,6],[36,1,36,6],[40,1,40,6],[31,1,31,6],[29,1,29,6],[46,1,46,6],[62,8,63,8]]}
["Zentrales Hauptsiedlungsgebiet"]
["Bauvorhaben:",null,"Adresse:",null,"Geschäftszahl:"]
[]
[null,null,"Stellplatzschlüssel\n(Stand 2018-02-01)",null,"Eingabedaten für Berechnung",null,"Erforderliche Anzahl an Stellplätzen"]
[{"$nulls":4},"Kennwert","Anzahl"]
["1.","Gebäude mit Wohnnutzung"]
["1.1.","Neu, Zu-, oder Umbau von bis zu 6 WE"]
["1.1.1.","WE bis 60m² WNFL","0,60 Stpl. / WE1)",0.6,"WE",null,{"$f":"IF(F8=\"\",\"\",IF(SUM($F$8:$F$11)>6,\"\",F8*D8))","v":""},null,{"$f":"IF(SUM(F8:F11)>6,\"ACHTUNG:\" & CHAR(10) & \"Es wurden mehr als 6 WE eingegeben!\" & CHAR(10) & \"Eingabe bei Pkt. 1.2\",\"\")","v":""}]
["1.1.2.","WE über 60 bis 80m² WNFL","0,80 Stpl. / WE1)",0.8,"WE",null,{"$f":"IF(F9=\"\",\"\",IF(SUM($F$8:$F$11)>6,\"\",F9*D9))","v":""}]
["1.1.3.","WE über 80 bis 110m² WNFL","0,90 Stpl. / WE1)",0.9,"WE",null,{"$f":"IF(F10=\"\",\"\",IF(SUM($F$8:$F$11)>6,\"\",F10*D10))","v":""}]
["1.1.4.","WE über 110m² WNFL","1,00 Stpl. / WE1)",1,"WE",null,{"$f":"IF(F11=\"\",\"\",IF(SUM($F$8:$F$11)>6,\"\",F11*D11))","v":""}]
["1.2.","Wohnanlagen (Neu, Zu-, oder Umbau von mehr als 6 WE)"]
["1.2.1.","WE bis 60m² WNFL","85% von 0,60 Stpl. / WE1)",{"$f":"0.6*0.85","v":0.51},"WE",null,{"$f":"IF(F13=\"\",\"\",IF(SUM($F$13:$F$16)>6,F13*D13,\"\"))","v":""},null,{"$f":"IF(AND(F13=\"\",F14=\"\",F15=\"\",F16=\"\"),\"\",IF(SUM(F13:F16)>6,\"\",\"ACHTUNG:\" & CHAR(10) & \"Kontrollieren Sie bitte ob es sich um eine Wohnanlage handelt!\" & CHAR(10) & \"Eingabe bei Pkt. 1.1\"))","v":""}]
["1.2.2.","WE über 60 bis 80m² WNFL","85% von 0,80 Stpl. / WE1)",{"$f":"0.8*0.85","v":0.68},"WE",null,{"$f":"IF(F14=\"\",\"\",IF(SUM($F$13:$F$16)>6,F14*D14,\"\"))","v":""}]
["1.2.3.","WE über 80 bis 110m² WNFL","85% von 0,90 Stpl. / WE1)",{"$f":"0.9*0.85","v":0.76500000000000001},"WE",null,{"$f":"IF(F15=\"\",\"\",IF(SUM($F$13:$F$16)>6,F15*D15,\"\"))","v":""}]
["1.2.4.","WE über 110m² WNFL","85% von 1,00 Stpl. / WE1)",{"$f":"1*0.85","v":0.85},"WE",null,{"$f":"IF(F16=\"\",\"\",IF(SUM($F$13:$F$16)>6,F16*D16,\"\"))","v":""}]
["1.3.","Betreutes Wohnen für SeniorInnen"]
["1.3.1.","bis (incl.) 5 WE"]
["1.3.1.1.","WE bis 60m² WNFL","75% von 0,60 Stpl. / WE1)",{"$f":"0.6*0.75","v":0.44999999999999996},"WE",null,{"$f":"IF(F19=\"\",\"\",IF(SUM($F$19:$F$22)>5,\"\",F19*D19))","v":""},null,{"$f":"IF(SUM(F19:F22)>5,\"ACHTUNG:\" & CHAR(10) & \"Es wurden mehr als 5 WE eingegeben!\" & CHAR(10) & \"Eingabe bei Pkt. 1.3.2\",\"\")","v":""}]
["1.3.1.2.","WE über 60 bis 80m² WNFL","75% von 0,80 Stpl. / WE1)",{"$f":"0.8*0.75","v":0.60000000000000009},"WE",null,{"$f":"IF(F20=\"\",\"\",IF(SUM($F$19:$F$22)>5,\"\",F20*D20))","v":""}]
["1.3.1.3.","WE über 80 bis 110m² WNFL","75% von 0,90 Stpl. / WE1)",{"$f":"0.9*0.75","v":0.67500000000000004},"WE",null,""]
["1.3.1.4.","WE über 110m² WNFL","75% von 1,00 Stpl. / WE1)",{"$f":"1*0.75","v":0.75},"WE",null,""]
["1.3.2.","mehr als 5 WE"]
["1.3.2.1.","WE bis 60m² WNFL","65% von 0,60 Stpl. / WE1)",{"$f":"0.6*0.65","v":0.39},"WE",null,{"$f":"IF(F24=\"\",\"\",IF(SUM($F$24:$F$29)>5,F24*D24,\"\"))","v":""},null,{"$f":"IF(AND(F24=\"\",F25=\"\",F26=\"\",F27=\"\"),\"\",IF(SUM(F24:F27)>5,\"\",\"ACHTUNG:\" & CHAR(10) & \"Kontrollieren Sie bitte ob es sich um eine Wohnanlage handelt!\" & CHAR(10) & \"Eingabe bei Pkt. 1.3.1\"))","v":""}]
["1.3.2.2.","WE über 60 bis 80m² WNFL","65% von 0,80 Stpl. / WE1)",{"$f":"0.8*0.65","v":0.52},"WE",null,{"$f":"IF(F25=\"\",\"\",IF(SUM($F$24:$F$29)>5,F25*D25,\"\"))","v":""}]
["1.3.2.3.","WE über 80 bis 110m² WNFL","65% von 0,90 Stpl. / WE1)",{"$f":"0.9*0.65","v":0.58500000000000008},"WE",null,""]
["1.3.2.4.","WE über 110m² WNFL","65% von 1,00 Stpl. / WE1)",{"$f":"1*0.65","v":0.65},"WE",null,""]
["1.4.","Heime für Kinder und Jugendliche bis 18 Jahren","1 Stpl. / 30 Betten\n(mind. 1 Stpl.)",{"$f":"1/30","v":3.3333333333333333E-2},"Betten",null,{"$f":"IF(F28=\"\",\"\",IF(F28*D28<1,1,F28*D28))","v":""},null,"Summe Wohngebäude gerundet"]
["1.5.","Heime für in Ausbildung befindliche oder berufstätige Personen über 18 Jahre","1 Stpl / 4 Betten\n(mind. 1 Stpl.)",{"$f":"1/4","v":0.25},"Betten",null,{"$f":"IF(F29=\"\",\"\",IF(F29*D29<1,1,F29*D29))","v":""},null,{"$f":"ROUND(SUM(G8:G11,G13:G16,G19:G22,G24:G29),0)","v":0}]
["2.","Büro- Verwaltungs- und Praxisräume"]
["2.1.","öffentliche Einrichtungen (Ämter-, Arztpraxen, Schalterhallen o.ä.) und sonstige Büro- und Verwaltungsräume","1 Stpl. / 80m² Nutzfläche\n(mind. 1 Stpl.)",{"$f":"1/80","v":1.2500000000000001E-2},"NF [m2]",null,{"$f":"IF(F31=\"\",\"\",IF(F31*D31<1,1,F31*D31))","v":""}]
["3.","Verkaufsstätten"]
["3.1.","Läden und Geschäfte (bis 300m²)","1 Stpl. / 40m² KF\n(mind. 2 Stpl.)",{"$f":"1/40","v":2.5000000000000001E-2},"KF [m2]",null,{"$f":"IF(F33=\"\",\"\",IF(F33*D33<2,2,F33*D33))","v":""}]
["3.2.","Super- und Verbrauchermärkte (>300m²)\nsowie Einkaufszentren Betriebstyp A","1 Stpl. / 35m² KF\n(mind. 2 Stpl.)",{"$f":"1/35","v":2.8571428571428571E-2},"KF [m2]",null,{"$f":"IF(F34=\"\",\"\",IF(F34*D34<2,2,F34*D34))","v":""}]
["3.3.","Einkaufszentren Betriebstyp B\n(früher IV bis V)","1 Stpl. / 20m² KF\n(mind. 2 Stpl.)",{"$f":"1/20","v":0.05},"KF [m2]",null,{"$f":"IF(F35=\"\",\"\",IF(F35*D35<2,2,F35*D35))","v":""}]
["3.4.","Ausstellungs- und Verkaufsflächen für große, flächenbeanspruchene Güter, sofern keine EKZ","1 Stpl. / 200m² AF bzw. KF",{"$f":"1/200","v":5.0000000000000001E-3},"AF bzw. KF [m2]",null,{"$f":"IF(F36=\"\",\"\",F36*D36)","v":""}]
["4.","Gaststätten und Beherbergungsbetriebe"]
["4.1.","Gaststätten, Restaurants, Cafes, Bars","1 Stpl. / 12 Sitzplätze\n(mind. 1 Stpl.)",{"$f":"1/12","v":8.3333333333333329E-2},"Sitzplätze",null,{"$f":"IF(F38=\"\",\"\",IF(F38*D38<1,1,F38*D38))","v":""}]
["4.2.","Hotels, Pensionen, Beherbergungsbetriebe","1 Stpl. / 7 Betten\n(mind. 1 Stpl.)",{"$f":"1/7","v":0.14285714285714285},"Betten",null,{"$f":"IF(F39=\"\",\"\",IF(F39*D39<1,1,F39*D39))","v":""}]
["4.3.","Jugendherbergen","1 Stpl. / 15 Betten\n(mind. 1 Stpl.)",{"$f":"1/15","v":6.6666666666666666E-2},"Betten",null,{"$f":"IF(F40=\"\",\"\",IF(F40*D40<1,1,F40*D40))","v":""}]
["5.","Sonstige gewerbliche Nutzung"]
["5.1.","Erzeugungs- und Dienstleistungsbetriebe","1 Stpl. / 300m² NF +\n1 Stpl. / 4 AP\n(mind. 1 Stpl.)",{"$f":"1/300","v":3.3333333333333335E-3},"NF [m2]",null,{"$f":"IF(F42=\"\",\"\",IF(F43=\"\",\"\",IF(F42*D42+F43*D43<1,1,F42*D42+F43*D43)))","v":""}]
[null,null,null,{"$f":"1/4","v":0.25},"AP"]
["5.2.","Lagergebäude und -flächen","1 Stpl. / 80m² LF",1.2500000000000001E-2,"LF [m2]:",null,{"$f":"IF($F$44=\"\",\"\",$F$44*$D$44)","v":""}]
["5.2.","Lagergebäude und -flächen","1 Stpl. / 300m² LF",{"$f":"1/300","v":3.3333333333333335E-3},"LF [m2]",null,{"$f":"IF(F45=\"\",\"\",F45*D45)","v":""}]
["5.3.","Waschanlagen","2 Stpl. / Waschanlage",2,"Waschanlagen",null,{"$f":"IF(F46=\"\",\"\",F46*D46)","v":""}]
["6.","Versammlungsstätten"]
["6.1.","Theater, Konzert-, Kongresshäuser;\n(Groß)Kino's mit überörtlicher Bedeutung","1 Stpl. / 15 BP",{"$f":"1/15","v":6.6666666666666666E-2},"BP",null,{"$f":"IF(F48=\"\",\"\",F48*D48)","v":""}]
["6.2.","Sonstige Versammlungsstätten, Kino's, Vortragssäle, religiöse Versammlungsstätten","1 Stpl. / 20 BP",{"$f":"1/20","v":0.05},"BP",null,{"$f":"IF($F$49=\"\",\"\",$F$49*$D$49)","v":""}]
["7.","Ausbildungsstätten, Schulen und Kindergärten"]
["7.1.","Kindergärten","1 Stpl. / 5 Gruppenräume",{"$f":"1/5","v":0.2},"Gruppenräume",null,{"$f":"IF(F51=\"\",\"\",F51*D51)","v":""}]
["7.2.","Volks-, Haupt- und Mittelschulen, generell Ausbildungsstätten für Personen unter 18 Jahren","1 Stpl. / 4 Klassen",{"$f":"1/4","v":0.25},"Klassen",null,{"$f":"IF(F52=\"\",\"\",F52*D52)","v":""}]
["7.3.","generell Ausbildungsstätten für Personen über 18 Jahren (sonstige Einrichtungen wie Büros, Mensen, Cafe's etc. sind nicht pauschal enthalten)","1 Stpl. / 20 Auszubildende\n(Sitzplätze, Hörerplätze)\n(mind. 1 Stpl.)",0.05,"Auszubildende",null,{"$f":"IF(F53=\"\",\"\",IF(F53*D53<1,1,F53*D53))","v":""}]
["8.","Krankenanstalten"]
["8.1.","(Alten-)Wohnheime (pflegeartige Betreuung, gemeinsame Einrichtungen)","1 Stpl. / 15 Betten",{"$f":"1/15","v":6.6666666666666666E-2},"Betten",null,{"$f":"IF(F55=\"\",\"\",F55*D55)","v":""}]
["9.","Verschiedenes"]
["10.1.","Kleingartenanlagen","1 Stpl. / 2 Kleingärten",0.5,"Kleingärten:",null,{"$f":"IF($F$57=\"\",\"\",$F$57*$D$57)","v":""}]
["9.1.","Fitnesscenter","1 Stpl. / 3 Kleiderablagen",{"$f":"1/3","v":0.33333333333333331},"Kleiderablagen",null,{"$f":"IF(F58=\"\",\"\",F58*D58)","v":""},null,"Summe Nichtwohngebäude gerundet"]
["9.2.","Kleingartenanlagen","12 Stpol. / 6 Kleingärten",{"$f":"1/6","v":0.16666666666666666},"Kleingärten",null,{"$f":"IF(F59=\"\",\"\",F59*D59)","v":""},null,{"$f":"ROUND(SUM(G31,G33:G36,G38:G40,G42:G46,G48:G49,G51:G53,G55,G58:G59),0)","v":0}]
["Die Gesamtanzahl der erforderlichen Stellplätze beträgt:",{"$nulls":5},{"$f":"SUM($G$6:$G$59)","v":0}]
["Barrierefreiestellplätze gem. §9 TBO (angemessene Anzahl gem. ÖNORM B 1600)*",{"$nulls":5},{"$f":"IF(G60=SUM(G8:G11),0,IF((G60-SUM(G8:G11))>=5,ROUNDUP((G60-SUM(G8:G11))/20,0),0))","v":0},null,{"$f":"IF(F48=\"\",\"\",\"ACHTUNG:\" & CHAR(10) & \"separate Regeln für Veranstaltungsstätten\")","v":""}]
["Fläche für einspurige Kraftfahrzeuge gem. §12 TBO für Wohnanlagen in m²\n(angemessene Größe gemäß Statistik Kfz Bestand)**",{"$nulls":5},{"$f":"IF(SUM(G13:G16)*0.16*1.5=0,0,MAX(SUM(G13:G16)*0.16*1.5,1.5))","v":0}]
["Technische Bauvorschriften 9. Abschnitt\nElektromobilität",null,"Ladepunkte",null,null,null,{"$f":"IF(I59>10,1,0)","v":0},null,"TBV §37b Abs (5)\nBei Nichtwohngebäude, bei denen die Anzahl der nachzuweisenden Abstellmöglichkeiten mehr als zwanzig beträgt, ist bis zum 1. Jänner 2025 mindestens ein Ladepunkt für Elektrofahrzeuge zu errichten. (Die Nachrüstung eines Ladepunktes ist erforderlich)"]
[null,null,"Anzahl der Stellplätze mit\nLeitungsinfrastruktur",null,null,null,{"$f":"IF(I29>10,I29,0)+IF(I59>10,ROUNDUP(I59/5,0),0)","v":0}]
[]
[null,null,"1) davon 5% Besucher"]
["Der ermittelte Stellplatzbedarf ist nach mathematischen Regeln zu runden!"]
["Legende:"]
["AF","…Ausstellungsfläche","*Barrierefreie Stellplätze\n Anforderung für Wohnanlagen und Gebäude die regelmäßig\n auch von Menschen mit einer Behinderung aufgesucht werden\n"]
["AP","…Arbeitsplätze"]
["BF","…Betriebsfläche"]
["BP","…Besucherplatz","**Berechnung Flächen einspurige Kfz:\n   Statistik Austria Kfz Bestand 2019 Innsbruck Stadt\n   Anteil einspuriger Fahrzeuge = 16% bezogen auf Pkws\n   vorgeschriebene Anzahl Pkw Stellplätze *16% *1,5m²"]
["FBF","…Freibadfläche"]
["FHF","…Friedhofsfläche"]
["GF","…Gastraumfläche"]
["GSP","…Gesamtsitzplatzanzahl"]
["HF","…Hallenfläche"]
["KF","…Kundenfläche nach §8 (2) TROG 16"]
["LF","…Lagerfläche im Gebäude"]
["NF","…Nutzfläche nach ÖNORM B 1800"]
["SF","…Sportfläche"]
["SP","…Sitzplätze"]
["VF","…Verkaufsfläche"]
["WE","…Wohneinheit bzw. Wohnung"]
["WNF","…Wohnnutzfläche je WE gemäß Stellplatzhöchstzahlenverordnung"]
[]
["Auf eine nähere Definition der letzteren Begriffe wurde wegen ihrer Komplexität bewusst verzichtet. Im Zweifelsfall kontaktieren Sie das Referat Verkehrs- und Umweltmanagement."]

{"sheet":"Hauptsiedlungsgebiet","index":2,"n_rows":87,"n_cols":9,"rows_kept":87,"cut":false,"hidden":false,"merged":[[62,8,63,8],[16,1,16,6],[17,1,17,6],[41,2,42,2],[41,6,42,6],[18,8,21,8],[23,8,26,8],[40,1,40,6],[86,0,86,6],[22,1,22,6],[62,2,62,5],[63,2,63,5],[61,0,61,5],[71,2,73,5],[68,2,70,5],[66,0,66,6],[46,1,46,6],[49,1,49,6],[53,1,53,6],[59,0,59,5],[55,1,55,6],[29,1,29,6],[31,1,31,6],[36,1,36,6],[7,8,10,8],[12,8,15,8],[0,0,0,6],[1,0,1,1],[2,0,2,1],[3,2,4,2],[3,3,4,3],[3,4,3,5],[3,6,4,6],[1,4,1,6],[2,4,2,6],[41,0,42,0],[41,1,42,1],[60,0,60,5],[62,0,63,1],[5,1,5,6],[6,1,6,6],[11,1,11,6]]}
["Hauptsiedlungsgebiet"]
["Bauvorhaben:",null,"Adresse:",null,"Geschäftszahl:"]
[]
[null,null,"Stellplatzschlüssel\n(Stand 2018-02-01)",null,"Eingabedaten für Berechnung",null,"Erforderliche Anzahl an Stellplätzen"]
[{"$nulls":4},"Kennwert","Anzahl"]
["1.","Gebäude mit Wohnnutzung"]
["1.1.","Neu, Zu-, oder Umbau von bis zu 6 WE"]
["1.1.1.","WE bis 60m² WNFL","0,90 Stpl. / WE2)",0.9,"WE",null,{"$f":"IF(F8=\"\",\"\",IF(SUM($F$8:$F$11)>6,\"\",F8*D8))","v":""},null,{"$f":"IF(SUM(F8:F11)>6,\"ACHTUNG:\" & CHAR(10) & \"Es wurden mehr als 6 WE eingegeben!\" & CHAR(10) & \"Eingabe bei Pkt. 1.2\",\"\")","v":""}]
["1.1.2.","WE über 60 bis 80m² WNFL","1,20 Stpl. / WE2)",1.2,"WE",null,{"$f":"IF(F9=\"\",\"\",IF(SUM($F$8:$F$11)>6,\"\",F9*D9))","v":""}]
["1.1.3.","WE über 80 bis 110m² WNFL","1,40 Stpl. / WE2)",1.4,"WE",null,{"$f":"IF(F10=\"\",\"\",IF(SUM($F$8:$F$11)>6,\"\",F10*D10))","v":""}]
["1.1.4.","WE über 110m² WNFL","1,50 Stpl. / WE2)",1.5,"WE",null,{"$f":"IF(F11=\"\",\"\",IF(SUM($F$8:$F$11)>6,\"\",F11*D11))","v":""}]
["1.2.","Wohnanlagen (Neu, Zu-, oder Umbau von mehr als 6 WE)"]
["1.2.1.","WE bis 60m² WNFL","85% von 0,90 Stpl. / WE2)",{"$f":"0.9 * 0.85","v":0.76500000000000001},"WE",null,{"$f":"IF(F13=\"\",\"\",IF(SUM($F$13:$F$16)>6,F13*D13,\"\"))","v":""},null,{"$f":"IF(AND(F13=\"\",F14=\"\",F15=\"\",F16=\"\"),\"\",IF(SUM(F13:F16)>6,\"\",\"ACHTUNG:\" & CHAR(10) & \"Kontrollieren Sie bitte ob es sich um eine Wohnanlage handelt!\" & CHAR(10) & \"Eingabe bei Pkt. 1.1\"))","v":""}]
["1.2.2.","WE über 60 bis 80m² WNFL","85% von 1,20 Stpl. / WE2)",{"$f":"1.2 * 0.85","v":1.02},"WE",null,{"$f":"IF(F14=\"\",\"\",IF(SUM($F$13:$F$16)>6,F14*D14,\"\"))","v":""}]
["1.2.3.","WE über 80 bis 110m² WNFL","85% von 1,40 Stpl. / WE2)",{"$f":"1.4 * 0.85","v":1.19},"WE",null,{"$f":"IF(F15=\"\",\"\",IF(SUM($F$13:$F$16)>6,F15*D15,\"\"))","v":""}]
["1.2.4.","WE über 110m² WNFL","85% von 1,50 Stpl. / WE2)",{"$f":"1.5 * 0.85","v":1.2749999999999999},"WE",null,{"$f":"IF(F16=\"\",\"\",IF(SUM($F$13:$F$16)>6,F16*D16,\"\"))","v":""}]
["1.3.","Betreutes Wohnen für SeniorInnen"]
["1.3.1.","bis (incl.) 5 WE"]
["1.3.1.1.","WE bis 60m² WNFL","75% von 0,90 Stpl. / WE2)",{"$f":"0.9*0.75","v":0.67500000000000004},"WE",null,{"$f":"IF(F19=\"\",\"\",IF(SUM($F$19:$F$22)>5,\"\",F19*D19))","v":""},null,{"$f":"IF(SUM(F19:F22)>5,\"ACHTUNG:\" & CHAR(10) & \"Es wurden mehr als 5 WE eingegeben!\" & CHAR(10) & \"Eingabe bei Pkt. 1.3.2\",\"\")","v":""}]
["1.3.1.2.","WE über 60 bis 80m² WNFL","75% von 1,20 Stpl. / WE2)",{"$f":"1.2 * 0.75","v":0.89999999999999991},"WE",null,{"$f":"IF(F20=\"\",\"\",IF(SUM($F$19:$F$22)>5,\"\",F20*D20))","v":""}]
["1.3.1.3.","WE über 80 bis 110m² WNFL","75% von 1,40 Stpl. / WE2)",{"$f":"1.4 * 0.75","v":1.0499999999999998},"WE",null,""]
["1.3.1.4.","WE über 110m² WNFL","75% von 1,50 Stpl. / WE2)",{"$f":"1.5*0.75","v":1.125},"WE",null,""]
["1.3.2.","mehr als 5 WE"]
["1.3.2.1.","WE bis 60m² WNFL","65% von 0,90 Stpl. / WE2)",{"$f":"0.9 * 0.65","v":0.58500000000000008},"WE",null,{"$f":"IF(F24=\"\",\"\",IF(SUM($F$24:$F$29)>5,F24*D24,\"\"))","v":""},null,{"$f":"IF(AND(F24=\"\",F25=\"\",F26=\"\",F27=\"\"),\"\",IF(SUM(F24:F27)>5,\"\",\"ACHTUNG:\" & CHAR(10) & \"Kontrollieren Sie bitte ob es sich um eine Wohnanlage handelt!\" & CHAR(10) & \"Eingabe bei Pkt. 1.3.1\"))","v":""}]
["1.3.2.2.","WE über 60 bis 80m² WNFL","65% von 1,20 Stpl. / WE2)",{"$f":"1.2*0.65","v":0.78},"WE",null,{"$f":"IF(F25=\"\",\"\",IF(SUM($F$24:$F$29)>5,F25*D25,\"\"))","v":""}]
["1.3.2.3.","WE über 80 bis 110m² WNFL","65% von 1,40 Stpl. / WE2)",{"$f":"1.4*0.65","v":0.90999999999999992},"WE",null,""]
["1.3.2.4.","WE über 110m² WNFL","65% von 1,50 Stpl. / WE2)",{"$f":"1.5*0.65","v":0.97500000000000009},"WE",null,""]
["1.4.","Heime für Kinder und Jugendliche bis 18 Jahren","1 Stpl. / 20 Betten\n(mind. 2 Stpl.)",{"$f":"1/20","v":0.05},"Betten",null,{"$f":"IF(F28=\"\",\"\",IF(F28*D28<2,2,F28*D28))","v":""},null,"Summe Wohngebäude gerundet"]
["1.5.","Heime für in Ausbildung befindliche oder berufstätige Personen über 18 Jahre","1 Stpl / 3 Betten\n(mind. 2 Stpl.)",{"$f":"1/3","v":0.33333333333333331},"Betten",null,{"$f":"IF(F29=\"\",\"\",IF(F29*D29<2,2,F29*D29))","v":""},null,{"$f":"ROUND(SUM(G8:G11,G13:G16,G19:G22,G24:G29),0)","v":0}]
["2.","Büro- Verwaltungs- und Praxisräume"]
["2.1.","öffentliche Einrichtungen (Ämter-, Arztpraxen, Schalterhallen o.ä.) und sonstige Büro- und Verwaltungsräume","1 Stpl. / 60m² NF\n(mind. 2 Stpl.)",{"$f":"1/60","v":1.6666666666666666E-2},"NF [m2]",null,{"$f":"IF(F31=\"\",\"\",IF(F31*D31<2,2,F31*D31))","v":""}]
["3.","Verkaufsstätten"]
["3.1.","Läden und Geschäfte (bis 300m²)","1 Stpl. / 30m² KF\n(mind. 2 Stpl.)",{"$f":"1/30","v":3.3333333333333333E-2},"KF [m2]",null,{"$f":"IF(F33=\"\",\"\",IF(F33*D33<2,2,F33*D33))","v":""}]
["3.2.","Super- und Verbrauchermärkte (>300m²)\nsowie Einkaufszentren Betriebstyp A","1 Stpl. / 25m² KF\n(mind. 2 Stpl.)",{"$f":"1/25","v":0.04},"KF [m2]",null,{"$f":"IF(F34=\"\",\"\",IF(F34*D34<2,2,F34*D34))","v":""}]
["3.3.","Einkaufszentren Betriebstyp B\n(früher IV bis V)","1 Stpl. / 15m² KF\n(mind. 2 Stpl.)",{"$f":"1/15","v":6.6666666666666666E-2},"KF [m2]",null,{"$f":"IF(F35=\"\",\"\",IF(F35*D35<2,2,F35*D35))","v":""}]
["3.4.","Ausstellungs- und Verkaufsflächen für große, flächenbeanspruchene Güter, sofern keine EKZ","1 Stpl. / 100m² AF bzw. KF",{"$f":"1/100","v":0.01},"AF bzw. KF [m2]",null,{"$f":"IF(F36=\"\",\"\",F36*D36)","v":""}]
["4.","Gaststätten und Beherbergungsbetriebe"]
["4.1.","Gaststätten, Restaurants, Cafes, Bars","1 Stpl. / 10 Sitzplätze\n(mind. 2 Stpl.)",{"$f":"1/10","v":0.1},"Sitzplätze",null,{"$f":"IF(F38=\"\",\"\",IF(F38*D38<2,2,F38*D38))","v":""}]
["4.2.","Hotels, Pensionen, Beherbergungsbetriebe","1 Stpl. / 4 Betten\n(mind. 2 Stpl.)",{"$f":"1/4","v":0.25},"Betten",null,{"$f":"IF(F39=\"\",\"\",IF(F39*D39<2,2,F39*D39))","v":""}]
["4.3.","Jugendherbergen","1 Stpl. / 13 Betten\n(mind. 2 Stpl.)",{"$f":"1/13","v":7.6923076923076927E-2},"Betten",null,{"$f":"IF(F40=\"\",\"\",IF(F40*D40<2,2,F40*D40))","v":""}]
["5.","Sonstige gewerbliche Nutzung"]
["5.1.","Erzeugungs- und Dienstleistungsbetriebe","1 Stpl. / 200m² NF +\n1 Stpl. / 3 AP\n(mind. 2 Stpl.)",{"$f":"1/200","v":5.0000000000000001E-3},"NF [m2]",null,{"$f":"IF(F42=\"\",\"\",IF(F43=\"\",\"\",IF(F42*D42+F43*D43<2,2,F42*D42+F43*D43)))","v":""}]
[null,null,null,{"$f":"1/3","v":0.33333333333333331},"AP"]
["5.2.","Lagergebäude und -flächen","1 Stpl. / 80m² LF",1.2500000000000001E-2,"LF [m2]:",null,{"$f":"IF($F$44=\"\",\"\",$F$44*$D$44)","v":""}]
["5.2.","Lagergebäude und -flächen","1 Stpl. / 200m² LF",{"$f":"1/200","v":5.0000000000000001E-3},"LF [m2]",null,{"$f":"IF(F45=\"\",\"\",F45*D45)","v":""}]
["5.3.","Waschanlagen","2 Stpl. / Waschanlage",2,"Waschanlagen",null,{"$f":"IF(F46=\"\",\"\",F46*D46)","v":""}]
["6.","Versammlungsstätten"]
["6.1.","Theater, Konzert-, Kongresshäuser;\n(Groß)Kino's mit überörtlicher Bedeutung","1 Stpl. / 10 BP",{"$f":"1/10","v":0.1},"BP",null,{"$f":"IF(F48=\"\",\"\",F48*D48)","v":""}]
["6.2.","Sonstige Versammlungsstätten, Kino's, Vortragssäle, religiöse Versammlungsstätten","1 Stpl. / 15 BP",{"$f":"1/15","v":6.6666666666666666E-2},"BP",null,{"$f":"IF(F49=\"\",\"\",F49*D49)","v":""}]
["7.","Ausbildungsstätten, Schulen und Kindergärten"]
["7.1.","Kindergärten","1 Stpl. / 2 Gruppenräume",{"$f":"1/2","v":0.5},"Gruppenräume",null,{"$f":"IF(F51=\"\",\"\",F51*D51)","v":""}]
["7.2.","Volks-, Haupt- und Mittelschulen, generell Ausbildungsstätten für Personen unter 18 Jahren","1 Stpl. / 2 Klassen",{"$f":"1/2","v":0.5},"Klassen",null,{"$f":"IF(F52=\"\",\"\",F52*D52)","v":""}]
["7.3.","generell Ausbildungsstätten für Personen über 18 Jahren (sonstige Einrichtungen wie Büros, Mensen, Cafe's etc. sind nicht pauschal enthalten)","1 Stpl. / 10 Auszubildende\n(Sitzplätze, Hörerpläte)\n(mind. 2 Stpl.)",{"$f":"1/10","v":0.1},"Auszubildende",null,{"$f":"IF(F53=\"\",\"\",IF(F53*D53<2,2,F53*D53))","v":""}]
["8.","Krankenanstalten"]
["8.1.","(Alten-)Wohnheime (pflegeartige Betreuung, gemeinsame Einrichtungen)","1 Stpl. / 10 Betten",0.1,"Betten",null,{"$f":"IF(F55=\"\",\"\",F55*D55)","v":""}]
["9.","Verschiedenes"]
["10.1.","Kleingartenanlagen","1 Stpl. / 2 Kleingärten",0.5,"Kleingärten:",null,{"$f":"IF($F$57=\"\",\"\",$F$57*$D$57)","v":""}]
["9.1.","Fitnesscenter","1 Stpl. / 2,5 Kleiderablagen",{"$f":"1/2.5","v":0.4},"Kleiderablagen",null,{"$f":"IF(F58=\"\",\"\",F58*D58)","v":""},null,"Summe Nichtwohngebäude gerundet"]
["9.2.","Kleingartenanlagen","1 Stpl. / 4 Kleingärten",{"$f":"1/4","v":0.25},"Kleingärten",null,{"$f":"IF(F59=\"\",\"\",F59*D59)","v":""},null,{"$f":"ROUND(SUM(G31,G33:G36,G38:G40,G42:G46,G48:G49,G51:G53,G55,G58:G59),0)","v":0}]
["Die Gesamtanzahl der erforderlichen Stellplätze beträgt:",{"$nulls":5},{"$f":"SUM($G$6:$G$59)","v":0}]
["Barrierefreiestellplätze gem. §9 TBO (angemessene Anzahl gem. ÖNORM B 1600)*",{"$nulls":5},{"$f":"IF(G60=SUM(G8:G11),0,IF((G60-SUM(G8:G11))>=5,ROUNDUP((G60-SUM(G8:G11))/20,0),0))","v":0},null,{"$f":"IF(F48=\"\",\"\",\"ACHTUNG:\" & CHAR(10) & \"separate Regeln für Veranstaltungsstätten\")","v":""}]
["Fläche für einspurige Kraftfahrzeuge gem. §12 TBO für Wohnanlagen in m²\n(angemessene Größe gemäß Statistik Kfz Bestand)**",{"$nulls":5},{"$f":"IF(SUM(G13:G16)*0.16*1.5=0,0,MAX(SUM(G13:G16)*0.16*1.5,1.5))","v":0}]
["Technische Bauvorschriften 9. Abschnitt\nElektromobilität",null,"Ladepunkte",null,null,null,{"$f":"IF(I59>10,1,0)","v":0},null,"TBV §37b Abs (5)\nBei Nichtwohngebäude, bei denen die Anzahl der nachzuweisenden Abstellmöglichkeiten mehr als zwanzig beträgt, ist bis zum 1. Jänner 2025 mindestens ein Ladepunkt für Elektrofahrzeuge zu errichten. (Die Nachrüstung eines Ladepunktes ist erforderlich)"]
[null,null,"Anzahl der Stellplätze mit\nLeitungsinfrastruktur",null,null,null,{"$f":"IF(I29>10,I29,0)+IF(I59>10,ROUNDUP(I59/5,0),0)","v":0}]
[]
[null,null,"2) davon 10% Besucher"]
["Der ermittelte Stellplatzbedarf ist nach mathematischen Regeln zu runden!"]
["Legende:"]
["AF","…Ausstellungsfläche","*Barrierefreie Stellplätze\n Anforderung für Wohnanlagen und Gebäude die regelmäßig\n auch von Menschen mit einer Behinderung aufgesucht werden\n"]
["AP","…Arbeitsplätze"]
["BF","…Betriebsfläche"]
["BP","…Besucherplatz","**Berechnung Flächen einspurige Kfz:\n   Statistik Austria Kfz Bestand 2019 Innsbruck Stadt\n   Anteil einspuriger Fahrzeuge = 16% bezogen auf Pkws\n   vorgeschriebene Anzahl Pkw Stellplätze *16% *1,5m²"]
["FBF","…Freibadfläche"]
["FHF","…Friedhofsfläche"]
["GF","…Gastraumfläche"]
["GSP","…Gesamtsitzplatzanzahl"]
["HF","…Hallenfläche"]
["KF","…Kundenfläche nach §8 (2) TROG 16"]
["LF","…Lagerfläche im Gebäude"]
["NF","…Nutzfläche nach ÖNORM B 1800"]
["SF","…Sportfläche"]
["SP","…Sitzplätze"]
["VF","…Verkaufsfläche"]
["WE","…Wohneinheit bzw. Wohnung"]
["WNF","…Wohnnutzfläche je WE gemäß Stellplatzhöchstzahlenverordnung"]
[]
["Auf eine nähere Definition der letzteren Begriffe wurde wegen ihrer Komplexität bewusst verzichtet. Im Zweifelsfall kontaktieren Sie das Referat Verkehrs- und Umweltmanagement."]

{"sheet":"peripheres Hauptsiedlungsgebiet","index":3,"n_rows":87,"n_cols":9,"rows_kept":87,"cut":false,"hidden":false,"merged":[[62,8,63,8],[71,2,73,5],[66,0,66,6],[86,0,86,6],[5,1,5,6],[6,1,6,6],[11,1,11,6],[16,1,16,6],[17,1,17,6],[59,0,59,5],[29,1,29,6],[31,1,31,6],[36,1,36,6],[40,1,40,6],[41,0,42,0],[41,1,42,1],[55,1,55,6],[7,8,10,8],[12,8,15,8],[18,8,21,8],[23,8,26,8],[22,1,22,6],[46,1,46,6],[49,1,49,6],[53,1,53,6],[41,2,42,2],[41,6,42,6],[0,0,0,6],[1,0,1,1],[2,0,2,1],[3,2,4,2],[3,3,4,3],[3,4,3,5],[3,6,4,6],[1,4,1,6],[2,4,2,6],[68,2,70,5],[60,0,60,5],[62,0,63,1],[62,2,62,5],[63,2,63,5],[61,0,61,5]]}
["peripheres Hauptsiedlungsgebiet"]
["Bauvorhaben:",null,"Adresse:",null,"Geschäftszahl:"]
[]
[null,null,"Stellplatzschlüssel\n(Stand 2018-02-01)",null,"Eingabedaten für Berechnung",null,"Erforderliche Anzahl an Stellplätzen"]
[{"$nulls":4},"Kennwert","Anzahl"]
["1.","Gebäude mit Wohnnutzung"]
["1.1.","Neu, Zu-, oder Umbau von bis zu 6 WE"]
["1.1.1.","WE bis 60m² WNFL","1,00 Stpl. / WE2)",1,"WE",null,{"$f":"IF(F8=\"\",\"\",IF(SUM($F$8:$F$11)>6,\"\",F8*D8))","v":""},null,{"$f":"IF(SUM(F8:F11)>6,\"ACHTUNG:\" & CHAR(10) & \"Es wurden mehr als 6 WE eingegeben!\" & CHAR(10) & \"Eingabe bei Pkt. 1.2\",\"\")","v":""}]
["1.1.2.","WE über 60 bis 80m² WNFL","1,50 Stpl. / WE2)",1.5,"WE",null,{"$f":"IF(F9=\"\",\"\",IF(SUM($F$8:$F$11)>6,\"\",F9*D9))","v":""}]
["1.1.3.","WE über 80 bis 110m² WNFL","1,70 Stpl. / WE2)",1.7,"WE",null,{"$f":"IF(F10=\"\",\"\",IF(SUM($F$8:$F$11)>6,\"\",F10*D10))","v":""}]
["1.1.4.","WE über 110m² WNFL","2,00 Stpl. / WE2)",2,"WE",null,{"$f":"IF(F11=\"\",\"\",IF(SUM($F$8:$F$11)>6,\"\",F11*D11))","v":""}]
["1.2.","Wohnanlagen (Neu, Zu-, oder Umbau von mehr als 6 WE)"]
["1.2.1.","WE bis 60m² WNFL","85% von 1,00 Stpl. / WE2)",{"$f":"1 * 0.85","v":0.85},"WE",null,{"$f":"IF(F13=\"\",\"\",IF(SUM($F$13:$F$16)>6,F13*D13,\"\"))","v":""},null,{"$f":"IF(AND(F13=\"\",F14=\"\",F15=\"\",F16=\"\"),\"\",IF(SUM(F13:F16)>6,\"\",\"ACHTUNG:\" & CHAR(10) & \"Kontrollieren Sie bitte ob es sich um eine Wohnanlage handelt!\" & CHAR(10) & \"Eingabe bei Pkt. 1.1\"))","v":""}]
["1.2.2.","WE über 60 bis 80m² WNFL","85% von 1,50 Stpl. / WE2)",{"$f":"1.5 * 0.85","v":1.2749999999999999},"WE",null,{"$f":"IF(F14=\"\",\"\",IF(SUM($F$13:$F$16)>6,F14*D14,\"\"))","v":""}]
["1.2.3.","WE über 80 bis 110m² WNFL","85% von 1,70 Stpl. / WE2)",{"$f":"1.7 * 0.85","v":1.4449999999999998},"WE",null,{"$f":"IF(F15=\"\",\"\",IF(SUM($F$13:$F$16)>6,F15*D15,\"\"))","v":""}]
["1.2.4.","WE über 110m² WNFL","85% von 2,00 Stpl. / WE2)",{"$f":"2 * 0.85","v":1.7},"WE",null,{"$f":"IF(F16=\"\",\"\",IF(SUM($F$13:$F$16)>6,F16*D16,\"\"))","v":""}]
["1.3.","Betreutes Wohnen für SeniorInnen"]
["1.3.1.","bis (incl.) 5 WE"]
["1.3.1.1.","WE bis 60m² WNFL","75% von 1,00 Stpl. / WE2)",{"$f":"1*0.75","v":0.75},"WE",null,{"$f":"IF(F19=\"\",\"\",IF(SUM($F$19:$F$22)>5,\"\",F19*D19))","v":""},null,{"$f":"IF(SUM(F19:F22)>5,\"ACHTUNG:\" & CHAR(10) & \"Es wurden mehr als 5 WE eingegeben!\" & CHAR(10) & \"Eingabe bei Pkt. 1.3.2\",\"\")","v":""}]
["1.3.1.2.","WE über 60 bis 80m² WNFL","75% von 1,50 Stpl. / WE2)",{"$f":"1.5 * 0.75","v":1.125},"WE",null,{"$f":"IF(F20=\"\",\"\",IF(SUM($F$19:$F$22)>5,\"\",F20*D20))","v":""}]
["1.3.1.3.","WE über 80 bis 110m² WNFL","75% von 1,70 Stpl. / WE2)",{"$f":"1.7 * 0.75","v":1.2749999999999999},"WE",null,""]
["1.3.1.4.","WE über 110m² WNFL","75% von 2,00 Stpl. / WE2)",{"$f":"2*0.75","v":1.5},"WE",null,""]
["1.3.2.","mehr als 5 WE"]
["1.3.2.1.","WE bis 60m² WNFL","65% von 1,00 Stpl. / WE2)",{"$f":"1 * 0.65","v":0.65},"WE",null,{"$f":"IF(F24=\"\",\"\",IF(SUM($F$24:$F$29)>5,F24*D24,\"\"))","v":""},null,{"$f":"IF(AND(F24=\"\",F25=\"\",F26=\"\",F27=\"\"),\"\",IF(SUM(F24:F27)>5,\"\",\"ACHTUNG:\" & CHAR(10) & \"Kontrollieren Sie bitte ob es sich um eine Wohnanlage handelt!\" & CHAR(10) & \"Eingabe bei Pkt. 1.3.1\"))","v":""}]
["1.3.2.2.","WE über 60 bis 80m² WNFL","65% von 1,50 Stpl. / WE2)",{"$f":"1.5*0.65","v":0.97500000000000009},"WE",null,{"$f":"IF(F25=\"\",\"\",IF(SUM($F$24:$F$29)>5,F25*D25,\"\"))","v":""}]
["1.3.2.3.","WE über 80 bis 110m² WNFL","65% von 1,70 Stpl. / WE2)",{"$f":"1.7*0.65","v":1.105},"WE",null,""]
["1.3.2.4.","WE über 110m² WNFL","65% von 2,00 Stpl. / WE2)",{"$f":"2*0.65","v":1.3},"WE",null,""]
["1.4.","Heime für Kinder und Jugendliche bis 18 Jahren","1 Stpl. / 20 Betten\n(mind. 2 Stpl.)",{"$f":"1/20","v":0.05},"Betten",null,{"$f":"IF(F28=\"\",\"\",IF(F28*D28<2,2,F28*D28))","v":""},null,"Summe Wohngebäude gerundet"]
["1.5.","Heime für in Ausbildung befindliche oder berufstätige Personen über 18 Jahre","1 Stpl / 3 Betten\n(mind. 2 Stpl.)",{"$f":"1/3","v":0.33333333333333331},"Betten",null,{"$f":"IF(F29=\"\",\"\",IF(F29*D29<2,2,F29*D29))","v":""},null,{"$f":"ROUND(SUM(G8:G11,G13:G16,G19:G22,G24:G29),0)","v":0}]
["2.","Büro- Verwaltungs- und Praxisräume"]
["2.1.","öffentliche Einrichtungen (Ämter-, Arztpraxen, Schalterhallen o.ä.) und sonstige Büro- und Verwaltungsräume","1 Stpl. / 40m² NF\n(mind. 2 Stpl.)",{"$f":"1/40","v":2.5000000000000001E-2},"NF [m2]",null,{"$f":"IF(F31=\"\",\"\",IF(F31*D31<2,2,F31*D31))","v":""}]
["3.","Verkaufsstätten"]
["3.1.","Läden und Geschäfte (bis 300m²)","1 Stpl. / 20m² KF\n(mind. 2 Stpl.)",{"$f":"1/20","v":0.05},"KF [m2]",null,{"$f":"IF(F33=\"\",\"\",IF(F33*D33<2,2,F33*D33))","v":""}]
["3.2.","Super- und Verbrauchermärkte (>300m²)\nsowie Einkaufszentren Betriebstyp A","1 Stpl. / 15m² KF\n(mind. 2 Stpl.)",{"$f":"1/15","v":6.6666666666666666E-2},"KF [m2]",null,{"$f":"IF(F34=\"\",\"\",IF(F34*D34<2,2,F34*D34))","v":""}]
["3.3.","Einkaufszentren Betriebstyp B\n(früher IV bis V)","1 Stpl. / 15m² KF\n(mind. 2 Stpl.)",{"$f":"1/15","v":6.6666666666666666E-2},"KF [m2]",null,{"$f":"IF(F35=\"\",\"\",IF(F35*D35<2,2,F35*D35))","v":""}]
["3.4.","Ausstellungs- und Verkaufsflächen für große, flächenbeanspruchene Güter, sofern keine EKZ","1 Stpl. / 100m² AF bzw. KF",{"$f":"1/100","v":0.01},"AF bzw. KF [m2]",null,{"$f":"IF(F36=\"\",\"\",F36*D36)","v":""}]
["4.","Gaststätten und Beherbergungsbetriebe"]
["4.1.","Gaststätten, Restaurants, Cafes, Bars","1 Stpl. / 8 Sitzplätze\n(mind. 2 Stpl.)",{"$f":"1/8","v":0.125},"Sitzplätze",null,{"$f":"IF(F38=\"\",\"\",IF(F38*D38<2,2,F38*D38))","v":""}]
["4.2.","Hotels, Pensionen, Beherbergungsbetriebe","1 Stpl. / 3 Betten\n(mind. 2 Stpl.)",{"$f":"1/3","v":0.33333333333333331},"Betten",null,{"$f":"IF(F39=\"\",\"\",IF(F39*D39<2,2,F39*D39))","v":""}]
["4.3.","Jugendherbergen","1 Stpl. / 10 Betten\n(mind. 2 Stpl.)",{"$f":"1/10","v":0.1},"Betten",null,{"$f":"IF(F40=\"\",\"\",IF(F40*D40<2,2,F40*D40))","v":""}]
["5.","Sonstige gewerbliche Nutzung"]
["5.1.","Erzeugungs- und Dienstleistungsbetriebe","1 Stpl. / 200m² NF +\n1 Stpl. / 2 AP\n(mind. 2 Stpl.)",{"$f":"1/200","v":5.0000000000000001E-3},"NF [m2]",null,{"$f":"IF(F42=\"\",\"\",IF(F43=\"\",\"\",IF(F42*D42+F43*D43<2,2,F42*D42+F43*D43)))","v":""}]
[null,null,null,{"$f":"1/2","v":0.5},"AP"]
["5.2.","Lagergebäude und -flächen","1 Stpl. / 80m² LF",1.2500000000000001E-2,"LF [m2]:",null,{"$f":"IF($F$44=\"\",\"\",$F$44*$D$44)","v":""}]
["5.2.","Lagergebäude und -flächen","1 Stpl. / 150m² LF",{"$f":"1/150","v":6.6666666666666671E-3},"LF [m2]",null,{"$f":"IF(F45=\"\",\"\",F45*D45)","v":""}]
["5.3.","Waschanlagen","2 Stpl. / Waschanlage",2,"Waschanlagen",null,{"$f":"IF(F46=\"\",\"\",F46*D46)","v":""}]
["6.","Versammlungsstätten"]
["6.1.","Theater, Konzert-, Kongresshäuser;\n(Groß)Kino's mit überörtlicher Bedeutung","1 Stpl. / 5 Besucherplätze",{"$f":"1/5","v":0.2},"BP",null,{"$f":"IF(F48=\"\",\"\",F48*D48)","v":""}]
["6.2.","Sonstige Versammlungsstätten, Kino's, Vortragssäle, religiöse Versammlungsstätten","1 Stpl. / 10 Besucherplätze",{"$f":"1/10","v":0.1},"BP",null,{"$f":"IF(F49=\"\",\"\",F49*D49)","v":""}]
["7.","Ausbildungsstätten, Schulen und Kindergärten"]
["7.1.","Kindergärten","1 Stpl. / Gruppenraum",{"$f":"1/1","v":1},"Gruppenräume",null,{"$f":"IF(F51=\"\",\"\",F51*D51)","v":""}]
["7.2.","Volks-, Haupt- und Mittelschulen, generell Ausbildungsstätten für Personen unter 18 Jahren","1 Stpl. / Klasse",{"$f":"1/1","v":1},"Klassen",null,{"$f":"IF(F52=\"\",\"\",F52*D52)","v":""}]
["7.3.","generell Ausbildungsstätten für Personen über 18 Jahren (sonstige Einrichtungen wie Büros, Mensen, Cafe's etc. sind nicht pauschal enthalten)","1 Stpl. / 10 Auszubildende\n(Sitzplätze, Hörerpläte)\n(mind. 2 Stpl.)",{"$f":"1/10","v":0.1},"Auszubildende",null,{"$f":"IF(F53=\"\",\"\",IF(F53*D53<2,2,F53*D53))","v":""}]
["8.","Krankenanstalten"]
["8.1.","(Alten-)Wohnheime (pflegeartige Betreuung, gemeinsame Einrichtungen)","1 Stpl. / 8 Betten",{"$f":"1/8","v":0.125},"Betten",null,{"$f":"IF(F55=\"\",\"\",F55*D55)","v":""}]
["9.","Verschiedenes"]
["10.1.","Kleingartenanlagen","1 Stpl. / 2 Kleingärten",0.5,"Kleingärten:",null,{"$f":"IF($F$57=\"\",\"\",$F$57*$D$57)","v":""}]
["9.1.","Fitnesscenter","1 Stpl. / 2 Kleiderablagen",{"$f":"1/2","v":0.5},"Kleiderablagen",null,{"$f":"IF(F58=\"\",\"\",F58*D58)","v":""},null,"Summe Nichtwohngebäude gerundet"]
["9.2.","Kleingartenanlagen","1 Stpl. / 2 Kleingärten",{"$f":"1/2","v":0.5},"Kleingärten",null,{"$f":"IF(F59=\"\",\"\",F59*D59)","v":""},null,{"$f":"ROUND(SUM(G31,G33:G36,G38:G40,G42:G46,G48:G49,G51:G53,G55,G58:G59),0)","v":0}]
["Die Gesamtanzahl der erforderlichen Stellplätze beträgt:",{"$nulls":5},{"$f":"SUM($G$6:$G$59)","v":0}]
["Barrierefreiestellplätze gem. §9 TBO (angemessene Anzahl gem. ÖNORM B 1600)*",{"$nulls":5},{"$f":"IF(G60=SUM(G8:G11),0,IF((G60-SUM(G8:G11))>=5,ROUNDUP((G60-SUM(G8:G11))/20,0),0))","v":0},null,{"$f":"IF(F48=\"\",\"\",\"ACHTUNG:\" & CHAR(10) & \"separate Regeln für Veranstaltungsstätten\")","v":""}]
["Fläche für einspurige Kraftfahrzeuge gem. §12 TBO für Wohnanlagen in m²\n(angemessene Größe gemäß Statistik Kfz Bestand)**",{"$nulls":5},{"$f":"IF(SUM(G13:G16)*0.16*1.5=0,0,MAX(SUM(G13:G16)*0.16*1.5,1.5))","v":0}]
["Technische Bauvorschriften 9. Abschnitt\nElektromobilität",null,"Ladepunkte",null,null,null,{"$f":"IF(I59>10,1,0)","v":0},null,"TBV §37b Abs (5)\nBei Nichtwohngebäude, bei denen die Anzahl der nachzuweisenden Abstellmöglichkeiten mehr als zwanzig beträgt, ist bis zum 1. Jänner 2025 mindestens ein Ladepunkt für Elektrofahrzeuge zu errichten. (Die Nachrüstung eines Ladepunktes ist erforderlich)"]
[null,null,"Anzahl der Stellplätze mit\nLeitungsinfrastruktur",null,null,null,{"$f":"IF(I29>10,I29,0)+IF(I59>10,ROUNDUP(I59/5,0),0)","v":0}]
[]
[null,null,"2) davon 10% Besucher"]
["Der ermittelte Stellplatzbedarf ist nach mathematischen Regeln zu runden!"]
["Legende:"]
["AF","…Ausstellungsfläche","*Barrierefreie Stellplätze\n Anforderung für Wohnanlagen und Gebäude die regelmäßig\n auch von Menschen mit einer Behinderung aufgesucht werden\n"]
["AP","…Arbeitsplätze"]
["BF","…Betriebsfläche"]
["BP","…Besucherplatz","**Berechnung Flächen einspurige Kfz:\n   Statistik Austria Kfz Bestand 2019 Innsbruck Stadt\n   Anteil einspuriger Fahrzeuge = 16% bezogen auf Pkws\n   vorgeschriebene Anzahl Pkw Stellplätze *16% *1,5m²"]
["FBF","…Freibadfläche"]
["FHF","…Friedhofsfläche"]
["GF","…Gastraumfläche"]
["GSP","…Gesamtsitzplatzanzahl"]
["HF","…Hallenfläche"]
["KF","…Kundenfläche nach §8 (2) TROG 16"]
["LF","…Lagerfläche im Gebäude"]
["NF","…Nutzfläche nach ÖNORM B 1800"]
["SF","…Sportfläche"]
["SP","…Sitzplätze"]
["VF","…Verkaufsfläche"]
["WE","…Wohneinheit bzw. Wohnung"]
["WNF","…Wohnnutzfläche je WE gemäß Stellplatzhöchstzahlenverordnung"]
[]
["Auf eine nähere Definition der letzteren Begriffe wurde wegen ihrer Komplexität bewusst verzichtet. Im Zweifelsfall kontaktieren Sie das Referat Verkehrs- und Umweltmanagement."]

{"sheet":"übriges Siedlungsgebiet","index":4,"n_rows":87,"n_cols":9,"rows_kept":87,"cut":false,"hidden":false,"merged":[[61,0,61,5],[60,0,60,5],[86,0,86,6],[29,1,29,6],[31,1,31,6],[36,1,36,6],[40,1,40,6],[41,0,42,0],[41,1,42,1],[41,2,42,2],[41,6,42,6],[46,1,46,6],[49,1,49,6],[53,1,53,6],[55,1,55,6],[59,0,59,5],[71,2,73,5],[68,2,70,5],[62,0,63,1],[62,2,62,5],[63,2,63,5],[66,0,66,6],[0,0,0,6],[1,0,1,1],[1,4,1,6],[2,0,2,1],[2,4,2,6],[22,1,22,6],[3,2,4,2],[3,3,4,3],[3,4,3,5],[3,6,4,6],[5,1,5,6],[6,1,6,6],[11,1,11,6],[16,1,16,6],[17,1,17,6],[62,8,63,8],[7,8,10,8],[12,8,15,8],[18,8,21,8],[23,8,26,8]]}
["übriges Siedlungsgebiet"]
["Bauvorhaben:",null,"Adresse:",null,"Geschäftszahl:"]
[]
[null,null,"Stellplatzschlüssel\n(Stand 2018-02-01)",null,"Eingabedaten für Berechnung",null,"Erforderliche Anzahl an Stellplätzen"]
[{"$nulls":4},"Kennwert","Anzahl"]
["1.","Gebäude mit Wohnnutzung"]
["1.1.","Neu, Zu-, oder Umbau von bis zu 6 WE"]
["1.1.1.","WE bis 60m² WNFL","1,20 Stpl. / WE2)",1.2,"WE",null,{"$f":"IF(F8=\"\",\"\",IF(SUM($F$8:$F$11)>6,\"\",F8*D8))","v":""},null,{"$f":"IF(SUM(F8:F11)>6,\"ACHTUNG:\" & CHAR(10) & \"Es wurden mehr als 6 WE eingegeben!\" & CHAR(10) & \"Eingabe bei Pkt. 1.2\",\"\")","v":""}]
["1.1.2.","WE über 60 bis 80m² WNFL","1,70 Stpl. / WE2)",1.7,"WE",null,{"$f":"IF(F9=\"\",\"\",IF(SUM($F$8:$F$11)>6,\"\",F9*D9))","v":""}]
["1.1.3.","WE über 80 bis 110m² WNFL","1,90 Stpl. / WE2)",1.9,"WE",null,{"$f":"IF(F10=\"\",\"\",IF(SUM($F$8:$F$11)>6,\"\",F10*D10))","v":""}]
["1.1.4.","WE über 110m² WNFL","2,10 Stpl. / WE2)",2.1,"WE",null,{"$f":"IF(F11=\"\",\"\",IF(SUM($F$8:$F$11)>6,\"\",F11*D11))","v":""}]
["1.2.","Wohnanlagen (Neu, Zu-, oder Umbau von mehr als 6 WE)"]
["1.2.1.","WE bis 60m² WNFL","85% von 1,20 Stpl. / WE2)",{"$f":"1.2 * 0.85","v":1.02},"WE",null,{"$f":"IF(F13=\"\",\"\",IF(SUM($F$13:$F$16)>6,F13*D13,\"\"))","v":""},null,{"$f":"IF(AND(F13=\"\",F14=\"\",F15=\"\",F16=\"\"),\"\",IF(SUM(F13:F16)>6,\"\",\"ACHTUNG:\" & CHAR(10) & \"Kontrollieren Sie bitte ob es sich um eine Wohnanlage handelt!\" & CHAR(10) & \"Eingabe bei Pkt. 1.1\"))","v":""}]
["1.2.2.","WE über 60 bis 80m² WNFL","85% von 1,70 Stpl. / WE2)",{"$f":"1.7 * 0.85","v":1.4449999999999998},"WE",null,{"$f":"IF(F14=\"\",\"\",IF(SUM($F$13:$F$16)>6,F14*D14,\"\"))","v":""}]
["1.2.3.","WE über 80 bis 110m² WNFL","85% von 1,90 Stpl. / WE2)",{"$f":"1.9 * 0.85","v":1.615},"WE",null,{"$f":"IF(F15=\"\",\"\",IF(SUM($F$13:$F$16)>6,F15*D15,\"\"))","v":""}]
["1.2.4.","WE über 110m² WNFL","85% von 2,10 Stpl. / WE2)",{"$f":"2.1 * 0.85","v":1.7849999999999999},"WE",null,{"$f":"IF(F16=\"\",\"\",IF(SUM($F$13:$F$16)>6,F16*D16,\"\"))","v":""}]
["1.3.","Betreutes Wohnen für SeniorInnen"]
["1.3.1.","bis (incl.) 5 WE"]
["1.3.1.1.","WE bis 60m² WNFL","75% von 1,20 Stpl. / WE2)",{"$f":"1.2*0.75","v":0.89999999999999991},"WE",null,{"$f":"IF(F19=\"\",\"\",IF(SUM($F$19:$F$22)>5,\"\",F19*D19))","v":""},null,{"$f":"IF(SUM(F19:F22)>5,\"ACHTUNG:\" & CHAR(10) & \"Es wurden mehr als 5 WE eingegeben!\" & CHAR(10) & \"Eingabe bei Pkt. 1.3.2\",\"\")","v":""}]
["1.3.1.2.","WE über 60 bis 80m² WNFL","75% von 1,70 Stpl. / WE2)",{"$f":"1.7 * 0.75","v":1.2749999999999999},"WE",null,{"$f":"IF(F20=\"\",\"\",IF(SUM($F$19:$F$22)>5,\"\",F20*D20))","v":""}]
["1.3.1.3.","WE über 80 bis 110m² WNFL","75% von 1,90 Stpl. / WE2)",{"$f":"1.9 * 0.75","v":1.4249999999999998},"WE",null,""]
["1.3.1.4.","WE über 110m² WNFL","75% von 2,10 Stpl. / WE2)",{"$f":"2.1*0.75","v":1.5750000000000002},"WE",null,""]
["1.3.2.","mehr als 5 WE"]
["1.3.2.1.","WE bis 60m² WNFL","65% von 1,20 Stpl. / WE2)",{"$f":"1.2 * 0.65","v":0.78},"WE",null,{"$f":"IF(F24=\"\",\"\",IF(SUM($F$24:$F$29)>5,F24*D24,\"\"))","v":""},null,{"$f":"IF(AND(F24=\"\",F25=\"\",F26=\"\",F27=\"\"),\"\",IF(SUM(F24:F27)>5,\"\",\"ACHTUNG:\" & CHAR(10) & \"Kontrollieren Sie bitte ob es sich um eine Wohnanlage handelt!\" & CHAR(10) & \"Eingabe bei Pkt. 1.3.1\"))","v":""}]
["1.3.2.2.","WE über 60 bis 80m² WNFL","65% von 1,70 Stpl. / WE2)",{"$f":"1.7*0.65","v":1.105},"WE",null,{"$f":"IF(F25=\"\",\"\",IF(SUM($F$24:$F$29)>5,F25*D25,\"\"))","v":""}]
["1.3.2.3.","WE über 80 bis 110m² WNFL","65% von 1,90 Stpl. / WE2)",{"$f":"1.9*0.65","v":1.2349999999999999},"WE",null,""]
["1.3.2.4.","WE über 110m² WNFL","65% von 2,10 Stpl. / WE2)",{"$f":"2.1*0.65","v":1.3650000000000002},"WE",null,""]
["1.4.","Heime für Kinder und Jugendliche bis 18 Jahren","1 Stpl. / 20 Betten\n(mind. 2 Stpl.)",{"$f":"1/20","v":0.05},"Betten",null,{"$f":"IF(F28=\"\",\"\",IF(F28*D28<2,2,F28*D28))","v":""},null,"Summe Wohngebäude gerundet"]
["1.5.","Heime für in Ausbildung befindliche oder berufstätige Personen über 18 Jahre","1 Stpl / 3 Betten\n(mind. 2 Stpl.)",{"$f":"1/3","v":0.33333333333333331},"Betten",null,{"$f":"IF(F29=\"\",\"\",IF(F29*D29<2,2,F29*D29))","v":""},null,{"$f":"ROUND(SUM(G8:G11,G13:G16,G19:G22,G24:G29),0)","v":0}]
["2.","Büro- Verwaltungs- und Praxisräume"]
["2.1.","öffentliche Einrichtungen (Ämter-, Arztpraxen, Schalterhallen o.ä.) und sonstige Büro- und Verwaltungsräume","1 Stpl. / 40m² NF\n(mind. 2 Stpl.)",{"$f":"1/40","v":2.5000000000000001E-2},"NF [m2]",null,{"$f":"IF(F31=\"\",\"\",IF(F31*D31<2,2,F31*D31))","v":""}]
["3.","Verkaufsstätten"]
["3.1.","Läden und Geschäfte (bis 300m²)","1 Stpl. / 20m² KF\n(mind. 2 Stpl.)",{"$f":"1/20","v":0.05},"KF [m2]",null,{"$f":"IF(F33=\"\",\"\",IF(F33*D33<2,2,F33*D33))","v":""}]
["3.2.","Super- und Verbrauchermärkte (>300m²)\nsowie Einkaufszentren Betriebstyp A","1 Stpl. / 15m² KF\n(mind. 2 Stpl.)",{"$f":"1/15","v":6.6666666666666666E-2},"KF [m2]",null,{"$f":"IF(F34=\"\",\"\",IF(F34*D34<2,2,F34*D34))","v":""}]
["3.3.","Einkaufszentren Betriebstyp B\n(früher IV bis V)","1 Stpl. / 15m² KF\n(mind. 2 Stpl.)",{"$f":"1/15","v":6.6666666666666666E-2},"KF [m2]",null,{"$f":"IF(F35=\"\",\"\",IF(F35*D35<2,2,F35*D35))","v":""}]
["3.4.","Ausstellungs- und Verkaufsflächen für große, flächenbeanspruchene Güter, sofern keine EKZ","1 Stpl. / 100m² AF bzw. KF",{"$f":"1/100","v":0.01},"AF bzw. KF [m2]",null,{"$f":"IF(F36=\"\",\"\",F36*D36)","v":""}]
["4.","Gaststätten und Beherbergungsbetriebe"]
["4.1.","Gaststätten, Restaurants, Cafes, Bars","1 Stpl. / 8 Sitzplätze\n(mind. 2 Stpl.)",{"$f":"1/8","v":0.125},"Sitzplätze",null,{"$f":"IF(F38=\"\",\"\",IF(F38*D38<2,2,F38*D38))","v":""}]
["4.2.","Hotels, Pensionen, Beherbergungsbetriebe","1 Stpl. / 3 Betten\n(mind. 2 Stpl.)",{"$f":"1/3","v":0.33333333333333331},"Betten",null,{"$f":"IF(F39=\"\",\"\",IF(F39*D39<2,2,F39*D39))","v":""}]
["4.3.","Jugendherbergen","1 Stpl. / 10 Betten\n(mind. 2 Stpl.)",{"$f":"1/10","v":0.1},"Betten",null,{"$f":"IF(F40=\"\",\"\",IF(F40*D40<2,2,F40*D40))","v":""}]
["5.","Sonstige gewerbliche Nutzung"]
["5.1.","Erzeugungs- und Dienstleistungsbetriebe","1 Stpl. / 200m² NF +\n1 Stpl. / 2 AP\n(mind. 2 Stpl.)",{"$f":"1/200","v":5.0000000000000001E-3},"NF [m2]",null,{"$f":"IF(F42=\"\",\"\",IF(F43=\"\",\"\",IF(F42*D42+F43*D43<2,2,F42*D42+F43*D43)))","v":""}]
[null,null,null,{"$f":"1/2","v":0.5},"AP"]
["5.2.","Lagergebäude und -flächen","1 Stpl. / 80m² LF",1.2500000000000001E-2,"LF [m2]:",null,{"$f":"IF($F$44=\"\",\"\",$F$44*$D$44)","v":""}]
["5.2.","Lagergebäude und -flächen","1 Stpl. / 150m² LF",{"$f":"1/150","v":6.6666666666666671E-3},"LF [m2]",null,{"$f":"IF(F45=\"\",\"\",F45*D45)","v":""}]
["5.3.","Waschanlagen","2 Stpl. / Waschanlage",2,"Waschanlagen",null,{"$f":"IF(F46=\"\",\"\",F46*D46)","v":""}]
["6.","Versammlungsstätten"]
["6.1.","Theater, Konzert-, Kongresshäuser;\n(Groß)Kino's mit überörtlicher Bedeutung","1 Stpl. / 5 Besucherplätze",{"$f":"1/5","v":0.2},"BP",null,{"$f":"IF(F48=\"\",\"\",F48*D48)","v":""}]
["6.2.","Sonstige Versammlungsstätten, Kino's, Vortragssäle, religiöse Versammlungsstätten","1 Stpl. / 10 Besucherplätze",{"$f":"1/10","v":0.1},"BP",null,{"$f":"IF(F49=\"\",\"\",F49*D49)","v":""}]
["7.","Ausbildungsstätten, Schulen und Kindergärten"]
["7.1.","Kindergärten","1 Stpl. / Gruppenraum",{"$f":"1/1","v":1},"Gruppenräume",null,{"$f":"IF(F51=\"\",\"\",F51*D51)","v":""}]
["7.2.","Volks-, Haupt- und Mittelschulen, generell Ausbildungsstätten für Personen unter 18 Jahren","1 Stpl. / Klasse",{"$f":"1/1","v":1},"Klassen",null,{"$f":"IF(F52=\"\",\"\",F52*D52)","v":""}]
["7.3.","generell Ausbildungsstätten für Personen über 18 Jahren (sonstige Einrichtungen wie Büros, Mensen, Cafe's etc. sind nicht pauschal enthalten)","1 Stpl. / 10 Auszubildende\n(Sitzplätze, Hörerpläte)\n(mind. 2 Stpl.)",{"$f":"1/10","v":0.1},"Auszubildende",null,{"$f":"IF(F53=\"\",\"\",IF(F53*D53<2,2,F53*D53))","v":""}]
["8.","Krankenanstalten"]
["8.1.","(Alten-)Wohnheime (pflegeartige Betreuung, gemeinsame Einrichtungen)","1 Stpl. / 8 Betten",{"$f":"1/8","v":0.125},"Betten",null,{"$f":"IF(F55=\"\",\"\",F55*D55)","v":""}]
["9.","Verschiedenes"]
["10.1.","Kleingartenanlagen","1 Stpl. / 2 Kleingärten",0.5,"Kleingärten:",null,{"$f":"IF($F$57=\"\",\"\",$F$57*$D$57)","v":""}]
["9.1.","Fitnesscenter","1 Stpl. / 2 Kleiderablagen",{"$f":"1/2","v":0.5},"Kleiderablagen",null,{"$f":"IF(F58=\"\",\"\",F58*D58)","v":""},null,"Summe Nichtwohngebäude gerundet"]
["9.2.","Kleingartenanlagen","1 Stpl. / 2 Kleingärten",{"$f":"1/2","v":0.5},"Kleingärten",null,{"$f":"IF(F59=\"\",\"\",F59*D59)","v":""},null,{"$f":"ROUND(SUM(G31,G33:G36,G38:G40,G42:G46,G48:G49,G51:G53,G55,G58:G59),0)","v":0}]
["Die Gesamtanzahl der erforderlichen Stellplätze beträgt:",{"$nulls":5},{"$f":"SUM($G$6:$G$59)","v":0}]
["Barrierefreiestellplätze gem. §9 TBO (angemessene Anzahl gem. ÖNORM B 1600)*",{"$nulls":5},{"$f":"IF(G60=SUM(G8:G11),0,IF((G60-SUM(G8:G11))>=5,ROUNDUP((G60-SUM(G8:G11))/20,0),0))","v":0},null,{"$f":"IF(F48=\"\",\"\",\"ACHTUNG:\" & CHAR(10) & \"separate Regeln für Veranstaltungsstätten\")","v":""}]
["Fläche für einspurige Kraftfahrzeuge gem. §12 TBO für Wohnanlagen in m²\n(angemessene Größe gemäß Statistik Kfz Bestand)**",{"$nulls":5},{"$f":"IF(SUM(G13:G16)*0.16*1.5=0,0,MAX(SUM(G13:G16)*0.16*1.5,1.5))","v":0}]
["Technische Bauvorschriften 9. Abschnitt\nElektromobilität",null,"Ladepunkte",null,null,null,{"$f":"IF(I59>10,1,0)","v":0},null,"TBV §37b Abs (5)\nBei Nichtwohngebäude, bei denen die Anzahl der nachzuweisenden Abstellmöglichkeiten mehr als zwanzig beträgt, ist bis zum 1. Jänner 2025 mindestens ein Ladepunkt für Elektrofahrzeuge zu errichten. (Die Nachrüstung eines Ladepunktes ist erforderlich)"]
[null,null,"Anzahl der Stellplätze mit\nLeitungsinfrastruktur",null,null,null,{"$f":"IF(I29>10,I29,0)+IF(I59>10,ROUNDUP(I59/5,0),0)","v":0}]
[]
[null,null,"2) davon 10% Besucher"]
["Der ermittelte Stellplatzbedarf ist nach mathematischen Regeln zu runden!"]
["Legende:"]
["AF","…Ausstellungsfläche","*Barrierefreie Stellplätze\n Anforderung für Wohnanlagen und Gebäude die regelmäßig\n auch von Menschen mit einer Behinderung aufgesucht werden\n"]
["AP","…Arbeitsplätze"]
["BF","…Betriebsfläche"]
["BP","…Besucherplatz","*Berechnung Flächen einspurige Kfz:\n Statistik Austria Kfz Bestand 2019 Innsbruck Stadt\n Anteil einspuriger Fahrzeuge = 16% bezogen auf Pkws\n vorgeschriebene Anzahl Pkw Stellplätze *16% *1,5m²"]
["FBF","…Freibadfläche"]
["FHF","…Friedhofsfläche"]
["GF","…Gastraumfläche"]
["GSP","…Gesamtsitzplatzanzahl"]
["HF","…Hallenfläche"]
["KF","…Kundenfläche nach §8 (2) TROG 16"]
["LF","…Lagerfläche im Gebäude"]
["NF","…Nutzfläche nach ÖNORM B 1800"]
["SF","…Sportfläche"]
["SP","…Sitzplätze"]
["VF","…Verkaufsfläche"]
["WE","…Wohneinheit bzw. Wohnung"]
["WNF","…Wohnnutzfläche je WE gemäß Stellplatzhöchstzahlenverordnung"]
[]
["Auf eine nähere Definition der letzteren Begriffe wurde wegen ihrer Komplexität bewusst verzichtet. Im Zweifelsfall kontaktieren Sie das Referat Verkehrs- und Umweltmanagement."]